BEGIN:VCALENDAR
VERSION:2.0
METHOD:PUBLISH
X-WR-CALNAME:Slovenská asociácia aterosklerózy |  november 01 2021- december 01 2021 | Filter\: 
PRODID:-//strange bird labs//Drupal iCal API//EN
BEGIN:VEVENT
DTSTAMP;VALUE=DATE-TIME:20260423T114651Z
DTSTART;VALUE=DATE-TIME:20211112T154000Z
DTEND;VALUE=DATE-TIME:20211112T154000Z
UID:http://saa.sk/v-onkourologick-symp-zium
URL;VALUE=URI:http://saa.sk/v-onkourologick-symp-zium
SUMMARY:V. Onkourologické sympózium
DESCRIPTION:<h3>
 	<a id=\\"uvod\\" name=\\"uvod\\">V&aacute\;žen&eacute\; kolegyne a kolegovia\,</a></h3>
 
END:VEVENT
END:VCALENDAR
